BEGIN:VCALENDAR
VERSION:2.0
PRODID:-//IDG Communications//Event Registrations//EN
BEGIN:VEVENT
SUMMARY:Live Virtual Event
DTSTART;VALUE=DATE-TIME:20200924T134500
DTEND;VALUE=DATE-TIME:20200924T134500
DTSTAMP;VALUE=DATE-TIME:20210226T155747Z
UID:event-720@idg.com.au
LOCATION:Live Virtual Forum \n. \n. . . \n.
END:VEVENT
END:VCALENDAR
